BEGIN:VCALENDAR
PRODID:-//http://statistik.d-u-v.org//PHP ultracalendar//EN
VERSION:2.0
METHOD:PUBLISH
BEGIN:VEVENT
DTSTAMP:20260419T192607
CREATED:20191113T171116
UID:1776626767.0.85168700-61857@statistik.d-u-v.org
SUMMARY:24-Stundenlauf in Reichenbach
DESCRIPTION: 24-Stundenlauf in Reichenbach\n
  Stephan Werner\n
  werner-reichenbach[at]t-online.de
DTSTART:20200627T100000
DTEND:20200628T100000
LOCATION:Reichenbach im Vogtland\, GER
URL:http://www.24-Stundenlauf.de
CATEGORIES:Ultramarathon
CONTACT:Stephan Werner
CLASS:PUBLIC
PRIORITY:5
TRANSP:OPAQUE
END:VEVENT
END:VCALENDAR
