BEGIN:VCALENDAR
PRODID:-//http://statistik.d-u-v.org//PHP ultracalendar//EN
VERSION:2.0
METHOD:PUBLISH
BEGIN:VEVENT
DTSTAMP:20260420T060808
CREATED:20191112T141435
UID:1776665288.0.84726200-61729@statistik.d-u-v.org
SUMMARY:Balatonfüred Ultramarathon 24h - 6h Split
DESCRIPTION: Balatonfüred Ultramarathon 24h - 6h Split\n
  Eszter Burjan\n
  info[at]rundevu.hu
DTSTART:20191018T120000
DTEND:20191019T235900
LOCATION:Balatonfüred\, HUN
URL:https://www.rundevu.hu/services/balatonfured-ultramarathon-versenyadatok/
CATEGORIES:Ultramarathon
CONTACT:Eszter Burjan
CLASS:PUBLIC
PRIORITY:5
TRANSP:OPAQUE
END:VEVENT
END:VCALENDAR
