BEGIN:VCALENDAR
PRODID:-//http://statistik.d-u-v.org//PHP ultracalendar//EN
VERSION:2.0
METHOD:PUBLISH
BEGIN:VEVENT
DTSTAMP:20260420T183535
CREATED:20191107T135103
UID:1776710135.0.10288100-61401@statistik.d-u-v.org
SUMMARY:Sulphur Springs Trail Run 100/50 Mile & 50 Km
DESCRIPTION: Sulphur Springs Trail Run 100/50 Mile & 50 Km\n
  Race Director\n
  sulphursprings[at]burlingtonrunners.com
DTSTART:20200926T060000
DTEND:20200927T120000
LOCATION:Ancaster, ON\, CAN
URL:http://www.burlingtonrunners.com/races/sulphur-springs-trail-race/
CATEGORIES:Ultramarathon
CONTACT:Race Director
CLASS:PUBLIC
PRIORITY:5
TRANSP:OPAQUE
END:VEVENT
END:VCALENDAR
