BEGIN:VCALENDAR
PRODID:-//http://statistik.d-u-v.org//PHP ultracalendar//EN
VERSION:2.0
METHOD:PUBLISH
BEGIN:VEVENT
DTSTAMP:20260423T044348
CREATED:20191031T134336
UID:1776919428.0.38190300-61066@statistik.d-u-v.org
SUMMARY:Coastal 50 km Trail Run
DESCRIPTION: Coastal 50 km Trail Run\n
  \n
  
DTSTART:20190921T080000
DTEND:00000000T235900
LOCATION:Stinson Beach, CA\, USA
URL:http://www.coastaltrailruns.com/coastal50.html
CATEGORIES:Ultramarathon
CONTACT:
CLASS:PUBLIC
PRIORITY:5
TRANSP:OPAQUE
END:VEVENT
END:VCALENDAR
