BEGIN:VCALENDAR
PRODID:-//http://statistik.d-u-v.org//PHP ultracalendar//EN
VERSION:2.0
METHOD:PUBLISH
BEGIN:VEVENT
DTSTAMP:20260419T183404
CREATED:20191024T153245
UID:1776623644.0.66239000-60886@statistik.d-u-v.org
SUMMARY:UltraPark Weekend 50km
DESCRIPTION: UltraPark Weekend 50km\n
  Piotr Kardas\n
  biuro.ultrapark[at]gmail.com
DTSTART:20200829T100000
DTEND:00000000T235900
LOCATION:Pabianice\, POL
URL:http://www.ultrapark.pl
CATEGORIES:Ultramarathon
CONTACT:Piotr Kardas
CLASS:PUBLIC
PRIORITY:5
TRANSP:OPAQUE
END:VEVENT
END:VCALENDAR
