BEGIN:VCALENDAR
PRODID:-//http://statistik.d-u-v.org//PHP ultracalendar//EN
VERSION:2.0
METHOD:PUBLISH
BEGIN:VEVENT
DTSTAMP:20260419T200602
CREATED:20191017T172310
UID:1776629162.0.26165300-60746@statistik.d-u-v.org
SUMMARY:Freaky Creeky 100k Race
DESCRIPTION: Freaky Creeky 100k Race\n
  \n
  bushbabestrailrunning[at]gmail.com
DTSTART:20190914T000000
DTEND:20190915T235900
LOCATION:Vernon, BC\, CAN
URL:https://www.bushbabestrailrunning.com/
CATEGORIES:Ultramarathon
CONTACT:
CLASS:PUBLIC
PRIORITY:5
TRANSP:OPAQUE
END:VEVENT
END:VCALENDAR
