BEGIN:VCALENDAR
PRODID:-//http://statistik.d-u-v.org//PHP ultracalendar//EN
VERSION:2.0
METHOD:PUBLISH
BEGIN:VEVENT
DTSTAMP:20260423T053955
CREATED:20100110T003136
UID:1776922795.0.37491100-6037@statistik.d-u-v.org
SUMMARY:Ultramaratona Int. de Cubatão - 100 km masculino
DESCRIPTION: Ultramaratona Int. de Cubatão - 100 km masculino\n
  \n
  
DTSTART:20100418T070000
DTEND:00000000T235900
LOCATION:Cubatao/SP\, BRA
URL:http://www.th5eventos.com.br/ultra/index.asp
CATEGORIES:Ultramarathon
CONTACT:
CLASS:PUBLIC
PRIORITY:5
TRANSP:OPAQUE
END:VEVENT
END:VCALENDAR
