BEGIN:VCALENDAR
PRODID:-//http://statistik.d-u-v.org//PHP ultracalendar//EN
VERSION:2.0
METHOD:PUBLISH
BEGIN:VEVENT
DTSTAMP:20260424T175905
CREATED:20210906T110738
UID:1777053545.0.08002700-60294@statistik.d-u-v.org
SUMMARY:Non Aided Schwäbischer Wald Ultra Trail (NASWUT)
DESCRIPTION: Non Aided Schwäbischer Wald Ultra Trail (NASWUT)\n
  Gernot Wurst\n
  naswut[at]prospectum.com
DTSTART:20211002T080000
DTEND:00000000T235900
LOCATION:Spiegelberg-Vorderbüchelberg\, GER
URL:http://naswut.prospectum.com
CATEGORIES:Ultramarathon
CONTACT:Gernot Wurst
CLASS:PUBLIC
PRIORITY:5
TRANSP:OPAQUE
END:VEVENT
END:VCALENDAR
