BEGIN:VCALENDAR
PRODID:-//http://statistik.d-u-v.org//PHP ultracalendar//EN
VERSION:2.0
METHOD:PUBLISH
BEGIN:VEVENT
DTSTAMP:20260423T100313
CREATED:20190923T155507
UID:1776938593.0.36449200-60230@statistik.d-u-v.org
SUMMARY:Run-de-Vous 100 Mile Endurance Run
DESCRIPTION: Run-de-Vous 100 Mile Endurance Run\n
  Rajeev Patel, Race Director\n
  rajeevtherunner[at]yahoo.com
DTSTART:20190817T000000
DTEND:20190818T235900
LOCATION:San Martin, CA\, USA
URL:http://www.run100s.com/rdv.htm
CATEGORIES:Ultramarathon
CONTACT:Rajeev Patel, Race Director
CLASS:PUBLIC
PRIORITY:5
TRANSP:OPAQUE
END:VEVENT
END:VCALENDAR
