BEGIN:VCALENDAR
PRODID:-//http://statistik.d-u-v.org//PHP ultracalendar//EN
VERSION:2.0
METHOD:PUBLISH
BEGIN:VEVENT
DTSTAMP:20260424T150707
CREATED:20190920T094118
UID:1777043227.0.56463900-60153@statistik.d-u-v.org
SUMMARY:Goosebumps 6 Hour Run
DESCRIPTION: Goosebumps 6 Hour Run\n
  \n
  locallupusalliance[at]gmail.com; info[at]locallupus.org
DTSTART:20190920T120000
DTEND:00000000T235900
LOCATION:La Crosse, WI\, USA
URL:https://www.locallupus.org/get-involved-events/goose-bumps-run/
CATEGORIES:Ultramarathon
CONTACT:
CLASS:PUBLIC
PRIORITY:5
TRANSP:OPAQUE
END:VEVENT
END:VCALENDAR
