BEGIN:VCALENDAR
PRODID:-//http://statistik.d-u-v.org//PHP ultracalendar//EN
VERSION:2.0
METHOD:PUBLISH
BEGIN:VEVENT
DTSTAMP:20260420T060811
CREATED:20190916T155721
UID:1776665291.0.58156500-60012@statistik.d-u-v.org
SUMMARY:Montlude SkyUltra
DESCRIPTION: Montlude SkyUltra\n
  \n
  info[at]montludeskyrace.com
DTSTART:20190615T060000
DTEND:00000000T235900
LOCATION:Les\, ESP
URL:https://montludeskyrace.com/
CATEGORIES:Ultramarathon
CONTACT:
CLASS:PUBLIC
PRIORITY:5
TRANSP:OPAQUE
END:VEVENT
END:VCALENDAR
