BEGIN:VCALENDAR
PRODID:-//http://statistik.d-u-v.org//PHP ultracalendar//EN
VERSION:2.0
METHOD:PUBLISH
BEGIN:VEVENT
DTSTAMP:20260424T205526
CREATED:20100109T062356
UID:1777064126.0.89826300-5994@statistik.d-u-v.org
SUMMARY:Gmünder 12-Stunden-DRK-Lauf - 100km Split
DESCRIPTION: Gmünder 12-Stunden-DRK-Lauf - 100km Split\n
  \n
  
DTSTART:19990717T000000
DTEND:00000000T235900
LOCATION:Schwäbisch Gmünd\, GER
URL:
CATEGORIES:Ultramarathon
CONTACT:
CLASS:PUBLIC
PRIORITY:5
TRANSP:OPAQUE
END:VEVENT
END:VCALENDAR
