BEGIN:VCALENDAR
PRODID:-//http://statistik.d-u-v.org//PHP ultracalendar//EN
VERSION:2.0
METHOD:PUBLISH
BEGIN:VEVENT
DTSTAMP:20260420T015057
CREATED:20190911T004518
UID:1776649857.0.52758900-59845@statistik.d-u-v.org
SUMMARY:La Grande Course- France Footrace Tour 2019 - Etape 12 Royan - Blaye
DESCRIPTION: La Grande Course- France Footrace Tour 2019 - Etape 12 Royan - Blaye\n
  \n
  tourdefrance_france[at]yahoo.fr
DTSTART:20190704T000000
DTEND:20190704T235900
LOCATION:Royan\, FRA
URL:http://www.skyrun.org/
CATEGORIES:Ultramarathon
CONTACT:
CLASS:PUBLIC
PRIORITY:5
TRANSP:OPAQUE
END:VEVENT
END:VCALENDAR
