BEGIN:VCALENDAR
PRODID:-//http://statistik.d-u-v.org//PHP ultracalendar//EN
VERSION:2.0
METHOD:PUBLISH
BEGIN:VEVENT
DTSTAMP:20260419T185927
CREATED:20190911T004518
UID:1776625167.0.84504600-59842@statistik.d-u-v.org
SUMMARY:La Grande Course- France Footrace Tour 2019 - Etape 9 Les Sables-d'Olonne - Marans
DESCRIPTION: La Grande Course- France Footrace Tour 2019 - Etape 9 Les Sables-d'Olonne - Marans\n
  \n
  tourdefrance_france[at]yahoo.fr
DTSTART:20190701T000000
DTEND:20190701T235900
LOCATION:Les Sables-d'Olonne\, FRA
URL:http://www.skyrun.org/
CATEGORIES:Ultramarathon
CONTACT:
CLASS:PUBLIC
PRIORITY:5
TRANSP:OPAQUE
END:VEVENT
END:VCALENDAR
