BEGIN:VCALENDAR
PRODID:-//http://statistik.d-u-v.org//PHP ultracalendar//EN
VERSION:2.0
METHOD:PUBLISH
BEGIN:VEVENT
DTSTAMP:20260423T003821
CREATED:20190904T204928
UID:1776904701.0.72514900-59719@statistik.d-u-v.org
SUMMARY:Leeds & Liverpool Canal Race 130 mile (LLCR)
DESCRIPTION: Leeds & Liverpool Canal Race 130 mile (LLCR)\n
  Dick Kearn\n
  dick.kearn[at]canalrace.org.uk
DTSTART:20200829T060000
DTEND:20200830T235900
LOCATION:Liverpool\, GBR
URL:https://canalrace.org.uk/leeds-liverpool-canal-race/
CATEGORIES:Ultramarathon
CONTACT:Dick Kearn
CLASS:PUBLIC
PRIORITY:5
TRANSP:OPAQUE
END:VEVENT
END:VCALENDAR
