BEGIN:VCALENDAR
PRODID:-//http://statistik.d-u-v.org//PHP ultracalendar//EN
VERSION:2.0
METHOD:PUBLISH
BEGIN:VEVENT
DTSTAMP:20260422T234937
CREATED:20190904T222234
UID:1776901777.0.20236300-59718@statistik.d-u-v.org
SUMMARY:L'Echappée Belle - L'Intégrale 144km en duo
DESCRIPTION: L'Echappée Belle - L'Intégrale 144km en duo\n
  Florent HUBERT\n
  contact.belledonne[at]gmail.com
DTSTART:20190823T060000
DTEND:20190825T120000
LOCATION:Vizille\, FRA
URL:http://www.lechappeebelledonne.com
CATEGORIES:Ultramarathon
CONTACT:Florent HUBERT
CLASS:PUBLIC
PRIORITY:5
TRANSP:OPAQUE
END:VEVENT
END:VCALENDAR
