BEGIN:VCALENDAR
PRODID:-//http://statistik.d-u-v.org//PHP ultracalendar//EN
VERSION:2.0
METHOD:PUBLISH
BEGIN:VEVENT
DTSTAMP:20260423T020338
CREATED:20190822T120905
UID:1776909818.0.51382600-59478@statistik.d-u-v.org
SUMMARY:Dawn to Dusk Endurance Run 15:30 Hour
DESCRIPTION: Dawn to Dusk Endurance Run 15:30 Hour\n
  \n
  
DTSTART:20200627T050000
DTEND:00000000T235900
LOCATION:Green Bay, WI\, USA
URL:https://www.titletownultra.com/
CATEGORIES:Ultramarathon
CONTACT:
CLASS:PUBLIC
PRIORITY:5
TRANSP:OPAQUE
END:VEVENT
END:VCALENDAR
