BEGIN:VCALENDAR
PRODID:-//http://statistik.d-u-v.org//PHP ultracalendar//EN
VERSION:2.0
METHOD:PUBLISH
BEGIN:VEVENT
DTSTAMP:20260424T155248
CREATED:20100104T222603
UID:1777045968.0.58105000-5942@statistik.d-u-v.org
SUMMARY:Helen Klein Ultra Classic 50mi
DESCRIPTION: Helen Klein Ultra Classic 50mi\n
  \n
  
DTSTART:20041106T000000
DTEND:00000000T235900
LOCATION:Granite Bay, CA\, USA
URL:http://www.ultrarunner.net/hk/helen_classic.html
CATEGORIES:Ultramarathon
CONTACT:
CLASS:PUBLIC
PRIORITY:5
TRANSP:OPAQUE
END:VEVENT
END:VCALENDAR
