BEGIN:VCALENDAR
PRODID:-//http://statistik.d-u-v.org//PHP ultracalendar//EN
VERSION:2.0
METHOD:PUBLISH
BEGIN:VEVENT
DTSTAMP:20260419T202905
CREATED:20190817T125426
UID:1776630545.0.05431600-59381@statistik.d-u-v.org
SUMMARY:SA Track 100 Championship
DESCRIPTION: SA Track 100 Championship\n
  Race Director: Ben Hockings\n
  ben.hockings[at]ultrasa.com.au
DTSTART:20200125T070000
DTEND:00000000T235900
LOCATION:Adelaide, SA\, AUS
URL:https://ultrasa.com.au/events/track-100/
CATEGORIES:Ultramarathon
CONTACT:Race Director: Ben Hockings
CLASS:PUBLIC
PRIORITY:5
TRANSP:OPAQUE
END:VEVENT
END:VCALENDAR
