BEGIN:VCALENDAR
PRODID:-//http://statistik.d-u-v.org//PHP ultracalendar//EN
VERSION:2.0
METHOD:PUBLISH
BEGIN:VEVENT
DTSTAMP:20260423T015906
CREATED:20180822T105103
UID:1776909546.0.00788300-59367@statistik.d-u-v.org
SUMMARY:Oregon Coast 50k
DESCRIPTION: Oregon Coast 50k\n
  James Varner\n
  email[at]rainshadowrunning.com
DTSTART:20191012T000000
DTEND:00000000T235900
LOCATION:Waldport, OR\, USA
URL:http://www.rainshadowrunning.com/oregon-coast-50k--30k.html
CATEGORIES:Ultramarathon
CONTACT:James Varner
CLASS:PUBLIC
PRIORITY:5
TRANSP:OPAQUE
END:VEVENT
END:VCALENDAR
