BEGIN:VCALENDAR
PRODID:-//http://statistik.d-u-v.org//PHP ultracalendar//EN
VERSION:2.0
METHOD:PUBLISH
BEGIN:VEVENT
DTSTAMP:20260422T211856
CREATED:20190814T191716
UID:1776892736.0.87950000-59264@statistik.d-u-v.org
SUMMARY:Northants Ultra 35 Shires & Spires
DESCRIPTION: Northants Ultra 35 Shires & Spires\n
  Simon Hollis\n
  admin[at]gobeyondchallenge.co.uk
DTSTART:20200906T083000
DTEND:00000000T235900
LOCATION:Naseby, Northampton\, GBR
URL:http://gobeyondultra.co.uk/events
CATEGORIES:Ultramarathon
CONTACT:Simon Hollis
CLASS:PUBLIC
PRIORITY:5
TRANSP:OPAQUE
END:VEVENT
END:VCALENDAR
