BEGIN:VCALENDAR
PRODID:-//http://statistik.d-u-v.org//PHP ultracalendar//EN
VERSION:2.0
METHOD:PUBLISH
BEGIN:VEVENT
DTSTAMP:20260422T084447
CREATED:20190813T135426
UID:1776847487.0.52463900-59242@statistik.d-u-v.org
SUMMARY:Trans Scania
DESCRIPTION: Trans Scania\n
  Magnus Bodin\n
  lejonbragden[at]gmail.com
DTSTART:20200807T080000
DTEND:20200809T200000
LOCATION:Lund\, SWE
URL:http://www.transscania.se/
CATEGORIES:Ultramarathon
CONTACT:Magnus Bodin
CLASS:PUBLIC
PRIORITY:5
TRANSP:OPAQUE
END:VEVENT
END:VCALENDAR
