BEGIN:VCALENDAR
PRODID:-//http://statistik.d-u-v.org//PHP ultracalendar//EN
VERSION:2.0
METHOD:PUBLISH
BEGIN:VEVENT
DTSTAMP:20260419T164753
CREATED:20190807T155648
UID:1776617273.0.85193600-59135@statistik.d-u-v.org
SUMMARY:Nanny Goat 100 Mile Race
DESCRIPTION: Nanny Goat 100 Mile Race\n
  Steve Harvey, Race Director\n
  
DTSTART:20190525T080000
DTEND:20190526T235900
LOCATION:Riverside, CA\, USA
URL:http://www.oldgoatraces.com/races/nanny-goat/
CATEGORIES:Ultramarathon
CONTACT:Steve Harvey, Race Director
CLASS:PUBLIC
PRIORITY:5
TRANSP:OPAQUE
END:VEVENT
END:VCALENDAR
