BEGIN:VCALENDAR
PRODID:-//http://statistik.d-u-v.org//PHP ultracalendar//EN
VERSION:2.0
METHOD:PUBLISH
BEGIN:VEVENT
DTSTAMP:20260424T211749
CREATED:20190804T103424
UID:1777065469.0.14367500-59015@statistik.d-u-v.org
SUMMARY:Tamborine Trek 45km
DESCRIPTION: Tamborine Trek 45km\n
  \n
  
DTSTART:19960804T000000
DTEND:00000000T235900
LOCATION:Surfers Paradise, QLD\, AUS
URL:
CATEGORIES:Ultramarathon
CONTACT:
CLASS:PUBLIC
PRIORITY:5
TRANSP:OPAQUE
END:VEVENT
END:VCALENDAR
