BEGIN:VCALENDAR
PRODID:-//http://statistik.d-u-v.org//PHP ultracalendar//EN
VERSION:2.0
METHOD:PUBLISH
BEGIN:VEVENT
DTSTAMP:20260420T003900
CREATED:20200715T090045
UID:1776645540.0.50912000-58738@statistik.d-u-v.org
SUMMARY:Kickers For Kids 50mi/50km Fun Run
DESCRIPTION: Kickers For Kids 50mi/50km Fun Run\n
  \n
  
DTSTART:20200718T000000
DTEND:00000000T235900
LOCATION:Palmer Lake, CO\, USA
URL:https://mrgraph.com/kickers-for-kids-fun-run
CATEGORIES:Ultramarathon
CONTACT:
CLASS:PUBLIC
PRIORITY:5
TRANSP:OPAQUE
END:VEVENT
END:VCALENDAR
