BEGIN:VCALENDAR
PRODID:-//http://statistik.d-u-v.org//PHP ultracalendar//EN
VERSION:2.0
METHOD:PUBLISH
BEGIN:VEVENT
DTSTAMP:20260420T003852
CREATED:20190716T210827
UID:1776645532.0.49957700-58672@statistik.d-u-v.org
SUMMARY:Moon Valley Run Festival - 17 Lakes Run
DESCRIPTION: Moon Valley Run Festival - 17 Lakes Run\n
  Geir Konrad Moen\n
  moonvalleyrunfestival[at]gmail.com
DTSTART:20190811T060000
DTEND:00000000T235900
LOCATION:Måndalen\, NOR
URL:http://www.moonvalleyrunfestival.com
CATEGORIES:Ultramarathon
CONTACT:Geir Konrad Moen
CLASS:PUBLIC
PRIORITY:5
TRANSP:OPAQUE
END:VEVENT
END:VCALENDAR
