BEGIN:VCALENDAR
PRODID:-//http://statistik.d-u-v.org//PHP ultracalendar//EN
VERSION:2.0
METHOD:PUBLISH
BEGIN:VEVENT
DTSTAMP:20260423T014842
CREATED:20190713T094239
UID:1776908922.0.48918600-58630@statistik.d-u-v.org
SUMMARY:St. Cuthbert's Way 45 Mile Ultra
DESCRIPTION: St. Cuthbert's Way 45 Mile Ultra\n
  Tim Bateson\n
  tim[at]trailoutlaws.com
DTSTART:20200711T103000
DTEND:20200712T235900
LOCATION:Melrose\, GBR
URL:http://www.trailoutlaws.com
CATEGORIES:Ultramarathon
CONTACT:Tim Bateson
CLASS:PUBLIC
PRIORITY:5
TRANSP:OPAQUE
END:VEVENT
END:VCALENDAR
