BEGIN:VCALENDAR
PRODID:-//http://statistik.d-u-v.org//PHP ultracalendar//EN
VERSION:2.0
METHOD:PUBLISH
BEGIN:VEVENT
DTSTAMP:20260422T221403
CREATED:20190701T110002
UID:1776896043.0.73510300-58490@statistik.d-u-v.org
SUMMARY:Ultra Trail Gaspesia 100 - Trans Percé 100
DESCRIPTION: Ultra Trail Gaspesia 100 - Trans Percé 100\n
  \n
  
DTSTART:20190614T000000
DTEND:20190616T235900
LOCATION:Perce, QC\, CAN
URL:https://gaspesia.org/ultra-trail/
CATEGORIES:Ultramarathon
CONTACT:
CLASS:PUBLIC
PRIORITY:5
TRANSP:OPAQUE
END:VEVENT
END:VCALENDAR
