BEGIN:VCALENDAR
PRODID:-//http://statistik.d-u-v.org//PHP ultracalendar//EN
VERSION:2.0
METHOD:PUBLISH
BEGIN:VEVENT
DTSTAMP:20260423T031425
CREATED:20190628T034434
UID:1776914065.0.41716800-58478@statistik.d-u-v.org
SUMMARY:The "James" Great Southern Alps miler
DESCRIPTION: The "James" Great Southern Alps miler\n
  Heath\n
  theyeti[at]stjamesmountainsports.co.nz
DTSTART:20200117T070000
DTEND:20200118T213000
LOCATION:Hanmer Springs\, NZL
URL:http://www.stjamesmountainsports.co.nz/
CATEGORIES:Ultramarathon
CONTACT:Heath
CLASS:PUBLIC
PRIORITY:5
TRANSP:OPAQUE
END:VEVENT
END:VCALENDAR
