BEGIN:VCALENDAR
PRODID:-//http://statistik.d-u-v.org//PHP ultracalendar//EN
VERSION:2.0
METHOD:PUBLISH
BEGIN:VEVENT
DTSTAMP:20260419T183205
CREATED:20190620T122653
UID:1776623525.0.43364500-58216@statistik.d-u-v.org
SUMMARY:INFINITUS 2019 - 88k Ultramarathon
DESCRIPTION: INFINITUS 2019 - 88k Ultramarathon\n
  \n
  
DTSTART:20190601T000000
DTEND:20190602T235900
LOCATION:Goshen, VT\, USA
URL:http://www.endurancesociety.org/infinitus.html
CATEGORIES:Ultramarathon
CONTACT:
CLASS:PUBLIC
PRIORITY:5
TRANSP:OPAQUE
END:VEVENT
END:VCALENDAR
