BEGIN:VCALENDAR
PRODID:-//http://statistik.d-u-v.org//PHP ultracalendar//EN
VERSION:2.0
METHOD:PUBLISH
BEGIN:VEVENT
DTSTAMP:20260424T172435
CREATED:20190620T110813
UID:1777051475.0.21966200-58201@statistik.d-u-v.org
SUMMARY:Born to Run Ultra 4 days Marathon
DESCRIPTION: Born to Run Ultra 4 days Marathon\n
  Luis Escobar, Race Director\n
  luisescobar150[at]gmail.com
DTSTART:20190515T120000
DTEND:20190519T120000
LOCATION:Los Olivos, CA\, USA
URL:http://www.allwedoisrun.com/
CATEGORIES:Ultramarathon
CONTACT:Luis Escobar, Race Director
CLASS:PUBLIC
PRIORITY:5
TRANSP:OPAQUE
END:VEVENT
END:VCALENDAR
