BEGIN:VCALENDAR
PRODID:-//http://statistik.d-u-v.org//PHP ultracalendar//EN
VERSION:2.0
METHOD:PUBLISH
BEGIN:VEVENT
DTSTAMP:20260419T185818
CREATED:20190620T001035
UID:1776625098.0.20938200-58187@statistik.d-u-v.org
SUMMARY:Angles Way Ultra 50k
DESCRIPTION: Angles Way Ultra 50k\n
  James Haskey-Jones\n
  topdayevents[at]gmail.com
DTSTART:20200524T100000
DTEND:00000000T235900
LOCATION:Shipmeadow\, GBR
URL:http://www.topdayevents.com/angleswayabout.html
CATEGORIES:Ultramarathon
CONTACT:James Haskey-Jones
CLASS:PUBLIC
PRIORITY:5
TRANSP:OPAQUE
END:VEVENT
END:VCALENDAR
