BEGIN:VCALENDAR
PRODID:-//http://statistik.d-u-v.org//PHP ultracalendar//EN
VERSION:2.0
METHOD:PUBLISH
BEGIN:VEVENT
DTSTAMP:20260423T041043
CREATED:20190618T110414
UID:1776917443.0.50107500-58168@statistik.d-u-v.org
SUMMARY:Laurel Highlands 70 Mile Ultra
DESCRIPTION: Laurel Highlands 70 Mile Ultra\n
  Rick Freeman\n
  rick.freeman1[at]verizon.net
DTSTART:20200927T000000
DTEND:20200928T235900
LOCATION:Ohiopyle, PA\, USA
URL:http://www.laurelultra.com/
CATEGORIES:Ultramarathon
CONTACT:Rick Freeman
CLASS:PUBLIC
PRIORITY:5
TRANSP:OPAQUE
END:VEVENT
END:VCALENDAR
