BEGIN:VCALENDAR
PRODID:-//http://statistik.d-u-v.org//PHP ultracalendar//EN
VERSION:2.0
METHOD:PUBLISH
BEGIN:VEVENT
DTSTAMP:20260419T185812
CREATED:20190617T124620
UID:1776625092.0.93235400-58127@statistik.d-u-v.org
SUMMARY:Pony Express Trail 100 Mile
DESCRIPTION: Pony Express Trail 100 Mile\n
  Race Director Davy Crockett\n
  ultracrockett[at]gmail.com
DTSTART:20191018T050000
DTEND:20191019T110000
LOCATION:Faust, UT\, USA
URL:http://ponyexpress100.org/
CATEGORIES:Ultramarathon
CONTACT:Race Director Davy Crockett
CLASS:PUBLIC
PRIORITY:5
TRANSP:OPAQUE
END:VEVENT
END:VCALENDAR
