BEGIN:VCALENDAR
PRODID:-//http://statistik.d-u-v.org//PHP ultracalendar//EN
VERSION:2.0
METHOD:PUBLISH
BEGIN:VEVENT
DTSTAMP:20260420T005902
CREATED:20190617T122417
UID:1776646742.0.15614000-58114@statistik.d-u-v.org
SUMMARY:Ancient Oaks 100 Mile Run
DESCRIPTION: Ancient Oaks 100 Mile Run\n
  Race Director Mike Melton\n
  mike[at]mcmelton.com
DTSTART:20191221T070000
DTEND:20191222T235900
LOCATION:Titusville, FL\, USA
URL:https://runsignup.com/Race/FL/Titusville/AncientOaks100MileEnduranceRun
CATEGORIES:Ultramarathon
CONTACT:Race Director Mike Melton
CLASS:PUBLIC
PRIORITY:5
TRANSP:OPAQUE
END:VEVENT
END:VCALENDAR
