BEGIN:VCALENDAR
PRODID:-//http://statistik.d-u-v.org//PHP ultracalendar//EN
VERSION:2.0
METHOD:PUBLISH
BEGIN:VEVENT
DTSTAMP:20260420T005853
CREATED:20190617T121323
UID:1776646733.0.95370900-58105@statistik.d-u-v.org
SUMMARY:Western States 100 Mile Endurance Run
DESCRIPTION: Western States 100 Mile Endurance Run\n
  Craig Thornley, Race Director\n
  rd[at]wser.org
DTSTART:20190629T000000
DTEND:20190630T235900
LOCATION:Squaw Valley, CA\, USA
URL:http://www.ws100.com/
CATEGORIES:Ultramarathon
CONTACT:Craig Thornley, Race Director
CLASS:PUBLIC
PRIORITY:5
TRANSP:OPAQUE
END:VEVENT
END:VCALENDAR
