BEGIN:VCALENDAR
PRODID:-//http://statistik.d-u-v.org//PHP ultracalendar//EN
VERSION:2.0
METHOD:PUBLISH
BEGIN:VEVENT
DTSTAMP:20260419T185839
CREATED:20190617T113608
UID:1776625119.0.48564800-58096@statistik.d-u-v.org
SUMMARY:River of No Return Endurance Run 108K
DESCRIPTION: River of No Return Endurance Run 108K\n
  Paul Lind, Race Director\n
  paullind[at]challisrunning.com
DTSTART:20190615T050000
DTEND:20190616T235900
LOCATION:Challis, ID\, USA
URL:http://runchallis.com/
CATEGORIES:Ultramarathon
CONTACT:Paul Lind, Race Director
CLASS:PUBLIC
PRIORITY:5
TRANSP:OPAQUE
END:VEVENT
END:VCALENDAR
