BEGIN:VCALENDAR
PRODID:-//http://statistik.d-u-v.org//PHP ultracalendar//EN
VERSION:2.0
METHOD:PUBLISH
BEGIN:VEVENT
DTSTAMP:20260423T163518
CREATED:20190606T171847
UID:1776962118.0.38986500-57923@statistik.d-u-v.org
SUMMARY:Gary Mountain Ultra Run
DESCRIPTION: Gary Mountain Ultra Run\n
  \n
  
DTSTART:20190615T060000
DTEND:00000000T235900
LOCATION:Nanzhuang Township\, TPE
URL:https://www.ibodygo.com.tw/EventTopic.aspx?n=814
CATEGORIES:Ultramarathon
CONTACT:
CLASS:PUBLIC
PRIORITY:5
TRANSP:OPAQUE
END:VEVENT
END:VCALENDAR
