BEGIN:VCALENDAR
PRODID:-//http://statistik.d-u-v.org//PHP ultracalendar//EN
VERSION:2.0
METHOD:PUBLISH
BEGIN:VEVENT
DTSTAMP:20260419T205115
CREATED:20091223T164646
UID:1776631875.0.80492400-5789@statistik.d-u-v.org
SUMMARY:Glacial Trail Run 50 km
DESCRIPTION: Glacial Trail Run 50 km\n
  \n
  
DTSTART:19971005T000000
DTEND:00000000T235900
LOCATION:Greenbush, WI\, USA
URL:http://www.badgerlandstriders.org
CATEGORIES:Ultramarathon
CONTACT:
CLASS:PUBLIC
PRIORITY:5
TRANSP:OPAQUE
END:VEVENT
END:VCALENDAR
