BEGIN:VCALENDAR
PRODID:-//http://statistik.d-u-v.org//PHP ultracalendar//EN
VERSION:2.0
METHOD:PUBLISH
BEGIN:VEVENT
DTSTAMP:20260419T131802
CREATED:20190605T203704
UID:1776604682.0.99279300-57873@statistik.d-u-v.org
SUMMARY:Self-Transcendence 6h-Lauf Chisinau - Open National Championchips
DESCRIPTION: Self-Transcendence 6h-Lauf Chisinau - Open National Championchips\n
  Ion Frunza\n
  moldova[at]srichinmoyraces.org
DTSTART:20190601T100000
DTEND:00000000T235900
LOCATION:Chisinau\, MDA
URL:https://md.srichinmoyraces.org
CATEGORIES:Ultramarathon
CONTACT:Ion Frunza
CLASS:PUBLIC
PRIORITY:5
TRANSP:OPAQUE
END:VEVENT
END:VCALENDAR
