BEGIN:VCALENDAR
PRODID:-//http://statistik.d-u-v.org//PHP ultracalendar//EN
VERSION:2.0
METHOD:PUBLISH
BEGIN:VEVENT
DTSTAMP:20260419T233312
CREATED:20190605T160645
UID:1776641592.0.68126800-57856@statistik.d-u-v.org
SUMMARY:Lake Waramaug 100km Ultra Marathon
DESCRIPTION: Lake Waramaug 100km Ultra Marathon\n
  Carl Hunt, Race Director\n
  jblakewu[at]aol.com
DTSTART:20190428T063000
DTEND:00000000T235900
LOCATION:New Preston, CT\, USA
URL:http://lakewaramaugultra.com/
CATEGORIES:Ultramarathon
CONTACT:Carl Hunt, Race Director
CLASS:PUBLIC
PRIORITY:5
TRANSP:OPAQUE
END:VEVENT
END:VCALENDAR
