BEGIN:VCALENDAR
PRODID:-//http://statistik.d-u-v.org//PHP ultracalendar//EN
VERSION:2.0
METHOD:PUBLISH
BEGIN:VEVENT
DTSTAMP:20260424T200030
CREATED:20190605T153243
UID:1777060830.0.96297600-57850@statistik.d-u-v.org
SUMMARY:Three Sisters Ultra Festival 24 Hour Run
DESCRIPTION: Three Sisters Ultra Festival 24 Hour Run\n
  \n
  
DTSTART:20190427T070000
DTEND:20190428T235900
LOCATION:Maryville, TN\, USA
URL:https://www.facebook.com/groups/1637161256556238/
CATEGORIES:Ultramarathon
CONTACT:
CLASS:PUBLIC
PRIORITY:5
TRANSP:OPAQUE
END:VEVENT
END:VCALENDAR
