BEGIN:VCALENDAR
PRODID:-//http://statistik.d-u-v.org//PHP ultracalendar//EN
VERSION:2.0
METHOD:PUBLISH
BEGIN:VEVENT
DTSTAMP:20260423T023852
CREATED:20091223T164646
UID:1776911932.0.85497600-5785@statistik.d-u-v.org
SUMMARY:Badgerland F/X 24 Hour Run
DESCRIPTION: Badgerland F/X 24 Hour Run\n
  Marty Malin\n
  4runners[at]merr.com
DTSTART:20100904T080000
DTEND:20100905T235900
LOCATION:Germantown, WI\, USA
URL:http://www.badgerlandstriders.org/
CATEGORIES:Ultramarathon
CONTACT:Marty Malin
CLASS:PUBLIC
PRIORITY:5
TRANSP:OPAQUE
END:VEVENT
END:VCALENDAR
