BEGIN:VCALENDAR
PRODID:-//http://statistik.d-u-v.org//PHP ultracalendar//EN
VERSION:2.0
METHOD:PUBLISH
BEGIN:VEVENT
DTSTAMP:20260425T175959
CREATED:20091220T223537
UID:1777139999.0.18785200-5776@statistik.d-u-v.org
SUMMARY:Soochow/Taipei 24h Ultramarathon - 12h Split
DESCRIPTION: Soochow/Taipei 24h Ultramarathon - 12h Split\n
  \n
  
DTSTART:20071124T000000
DTEND:00000000T235900
LOCATION:Taipei\, TPE
URL:http://ultrarunning.scu.edu.tw/ultra/2007/2007_index.php
CATEGORIES:Ultramarathon
CONTACT:
CLASS:PUBLIC
PRIORITY:5
TRANSP:OPAQUE
END:VEVENT
END:VCALENDAR
