BEGIN:VCALENDAR
PRODID:-//http://statistik.d-u-v.org//PHP ultracalendar//EN
VERSION:2.0
METHOD:PUBLISH
BEGIN:VEVENT
DTSTAMP:20260419T162933
CREATED:20190531T121514
UID:1776616173.0.48738800-57747@statistik.d-u-v.org
SUMMARY:Cornbelt Running Club 24 Hour Run - 100km Split
DESCRIPTION: Cornbelt Running Club 24 Hour Run - 100km Split\n
  Race Director Karl Ungurean\n
  info[at]cornbelt.org
DTSTART:20190504T070000
DTEND:20190505T235900
LOCATION:Eldridge, IA\, USA
URL:http://www.cornbelt.org/
CATEGORIES:Ultramarathon
CONTACT:Race Director Karl Ungurean
CLASS:PUBLIC
PRIORITY:5
TRANSP:OPAQUE
END:VEVENT
END:VCALENDAR
