BEGIN:VCALENDAR
PRODID:-//http://statistik.d-u-v.org//PHP ultracalendar//EN
VERSION:2.0
METHOD:PUBLISH
BEGIN:VEVENT
DTSTAMP:20260419T185849
CREATED:20190524T170216
UID:1776625129.0.53449100-57627@statistik.d-u-v.org
SUMMARY:Trail Running of Meishan - 75 Km
DESCRIPTION: Trail Running of Meishan - 75 Km\n
  \n
  
DTSTART:20191102T030000
DTEND:20191103T060000
LOCATION:Meishan Township\, TPE
URL:https://www.ibodygo.com.tw/EventTopic.aspx?n=847
CATEGORIES:Ultramarathon
CONTACT:
CLASS:PUBLIC
PRIORITY:5
TRANSP:OPAQUE
END:VEVENT
END:VCALENDAR
