BEGIN:VCALENDAR
PRODID:-//http://statistik.d-u-v.org//PHP ultracalendar//EN
VERSION:2.0
METHOD:PUBLISH
BEGIN:VEVENT
DTSTAMP:20260425T175835
CREATED:20190523T091227
UID:1777139915.0.41063000-57604@statistik.d-u-v.org
SUMMARY:Run Around Taipei 67 Km
DESCRIPTION: Run Around Taipei 67 Km\n
  \n
  service[at]wartech.com.tw
DTSTART:20191228T063000
DTEND:00000000T235900
LOCATION:Taipei City\, TPE
URL:https://www.facebook.com/events/630174977443945/?active_tab=about
CATEGORIES:Ultramarathon
CONTACT:
CLASS:PUBLIC
PRIORITY:5
TRANSP:OPAQUE
END:VEVENT
END:VCALENDAR
