BEGIN:VCALENDAR
PRODID:-//http://statistik.d-u-v.org//PHP ultracalendar//EN
VERSION:2.0
METHOD:PUBLISH
BEGIN:VEVENT
DTSTAMP:20260419T204305
CREATED:20190521T171128
UID:1776631385.0.19173000-57574@statistik.d-u-v.org
SUMMARY:Semi Trail des Ô Plateaux
DESCRIPTION: Semi Trail des Ô Plateaux\n
  Eleonore Naud\n
  utop.mada[at]gmail.com
DTSTART:20110507T000000
DTEND:00000000T235900
LOCATION:Mantasoa\, MAD
URL:http://www.techmedia.mg/utop/
CATEGORIES:Ultramarathon
CONTACT:Eleonore Naud
CLASS:PUBLIC
PRIORITY:5
TRANSP:OPAQUE
END:VEVENT
END:VCALENDAR
