BEGIN:VCALENDAR
PRODID:-//http://statistik.d-u-v.org//PHP ultracalendar//EN
VERSION:2.0
METHOD:PUBLISH
BEGIN:VEVENT
DTSTAMP:20260423T031408
CREATED:20190426T110328
UID:1776914048.0.26071600-57080@statistik.d-u-v.org
SUMMARY:Ushuaia by UTMB - FMU 130
DESCRIPTION: Ushuaia by UTMB - FMU 130\n
  \n
  
DTSTART:20190406T000000
DTEND:20190408T235900
LOCATION:Ushuaia\, ARG
URL:https://ushuaiabyutmb.com/en/inicio/
CATEGORIES:Ultramarathon
CONTACT:
CLASS:PUBLIC
PRIORITY:5
TRANSP:OPAQUE
END:VEVENT
END:VCALENDAR
