BEGIN:VCALENDAR
PRODID:-//http://statistik.d-u-v.org//PHP ultracalendar//EN
VERSION:2.0
METHOD:PUBLISH
BEGIN:VEVENT
DTSTAMP:20260423T093831
CREATED:20190426T104024
UID:1776937111.0.13648200-57077@statistik.d-u-v.org
SUMMARY:Whistler Alpine Meadows 100 Mile Race
DESCRIPTION: Whistler Alpine Meadows 100 Mile Race\n
  \n
  
DTSTART:20190920T103000
DTEND:20190922T235900
LOCATION:Whistler, BC\, CAN
URL:http://www.coastmountaintrailseries.com/whistler.html
CATEGORIES:Ultramarathon
CONTACT:
CLASS:PUBLIC
PRIORITY:5
TRANSP:OPAQUE
END:VEVENT
END:VCALENDAR
